Workbook
Name from: #REF!
Name to: #REF!
Name 加工済み名簿3: #REF!
Name 調査票印刷データ: #REF!
Name 調査票項目一覧: [1]データ!$A:$AF
Name 調査票番号: #REF!

Sheet 調査票
L2: 令和7年大分県商品流通調査 | T2: 整理番号
F3: 提出期限 | G3: 令和8年11月27日
J4: 商品流通調査票
F5: 提出先 | G5: 大分県知事 | T5: ※整理番号は調査依頼文裏面に 記載しております。
L7: （対象期間：令和７年1～12月）
F8: この調査により報告された記入内容は、統計法により秘密が保護されます。この調査票は、統計以外の目的に使用することは絶対にありません。
D9: 令和7年商品流通調査は、大分県が作成する「令和7年大分県産業連関表」の基礎資料として、地域間の商品流通状況を把握することを目的としています。
B10: ※薄橙色に着色されたセルのみ入力をお願いします。金額の単位はすべて「千円単位」で、単位未満は四捨五入してください。（例：150万円の場合「1500」とご記入ください。）
C11: 事業所 所在地 | G11: 〒 | N11: 記入担当者連絡先 | O11: 所属 部署名
O13: TEL
C14: 事業所名 | O14: フリガナ
O15: 氏名
H18: 記入例
F19: ①品目コード ＊品目例示表参照 | H19: 品目１ | K19: 品目１ | N19: 品目２ | Q19: 品目３ | T19: 品目４
H20: 030
F21: 品目名 | H21: =IF(H20=""," ",VLOOKUP(H20,'品目コード一覧表_一列（非表示）'!$A$1:$B$344,2,FALSE)) -> 調味料 | K21: =IF(K20=""," ",VLOOKUP(K20,'品目コード一覧表_一列（非表示）'!$A$1:$B$344,2,FALSE)) | N21: =IF(N20=""," ",VLOOKUP(N20,'品目コード一覧表_一列（非表示）'!$A$1:$B$344,2,FALSE)) | Q21: =IF(Q20=""," ",VLOOKUP(Q20,'品目コード一覧表_一列（非表示）'!$A$1:$B$344,2,FALSE)) | T21: =IF(T20=""," ",VLOOKUP(T20,'品目コード一覧表_一列（非表示）'!$A$1:$B$344,2,FALSE))
C22: ②消費税の扱い（セルを選択すると変更可） | H22: 抜き | K22: 抜き | N22: 抜き | Q22: 抜き | T22: 抜き
C23: ③自工場生産額 | H23: =SUM(H24:I28) -> 1395 | J23: 千円 | K23: =SUM(K24:L28) -> 0 | M23: 千円 | N23: =SUM(N24:O28) -> 0 | P23: 千円 | Q23: =SUM(Q24:R28) -> 0 | S23: 千円 | T23: =SUM(T24:T28) -> 0 | V23: 千円
D24: ④うち自工場消費額 | H24: 384 | J24: 千円 | M24: 千円 | P24: 千円 | S24: 千円 | V24: 千円
D25: ⑤うち輸出向出荷額 | H25: 136 | J25: 千円 | M25: 千円 | P25: 千円 | S25: 千円 | V25: 千円
D26: ⑥うち国内(県外)向出荷額 | H26: 275 | J26: 千円 | M26: 千円 | P26: 千円 | S26: 千円 | V26: 千円
D27: ⑦うち国内(県内)向出荷額 | H27: 500 | J27: 千円 | M27: 千円 | P27: 千円 | S27: 千円 | V27: 千円
D28: ⑧うち在庫分（未出荷分） | H28: 100 | J28: 千円 | M28: 千円 | P28: 千円 | S28: 千円 | V28: 千円
C30: 【備考記入欄】注意すべき事柄がありましたら、その旨入力してください。 また、工場出荷価格（消費税を除く）で記入できない場合は、記入に際して実際に採用した方法を本欄に記入してください。 （例）・休業中のため出荷をしていない。 ・操業開始後未出荷のため出荷をしていない。 ・酒税、たばこ税、揮発油税等の納付税額抜き 等
C43: ※ファイル名「令和７年大分県商品流通調査票_整理番号」赤字部分を貴事業所整理番号(3桁)に書き換えのうえご提出ください。(事業所整理番号は、調査依頼文裏面に記載しております。） ※電子申請システムからのご提出を推奨しております。 【URL】https://ttzk.graffer.jp/pref-oita/smart-apply/surveys/5206913721335039641
D50: ☆ご協力ありがとうございました☆
N51: 記入欄が不足する場合は恐れ入りますが２枚目（紙の調査票は裏面）へご記入ください
B53: 【２枚目】
F54: ①品目コード ＊品目例示表参照 | H54: 品目5 | K54: 品目6 | N54: 品目7 | Q54: 品目8 | T54: 品目9
F56: 品目名 | H56: =IF(H55=""," ",VLOOKUP(H55,'品目コード一覧表_一列（非表示）'!$A$1:$B$344,2,FALSE)) | K56: =IF(K55=""," ",VLOOKUP(K55,'品目コード一覧表_一列（非表示）'!$A$1:$B$344,2,FALSE)) | N56: =IF(N55=""," ",VLOOKUP(N55,'品目コード一覧表_一列（非表示）'!$A$1:$B$344,2,FALSE)) | Q56: =IF(Q55=""," ",VLOOKUP(Q55,'品目コード一覧表_一列（非表示）'!$A$1:$B$344,2,FALSE)) | T56: =IF(T55=""," ",VLOOKUP(T55,'品目コード一覧表_一列（非表示）'!$A$1:$B$344,2,FALSE))
C57: ②消費税の扱い（セルを選択すると変更可） | H57: 抜き | K57: 抜き | N57: 抜き | Q57: 抜き | T57: 抜き
C58: ③自工場生産額 | H58: =SUM(H59:I63) -> 0 | J58: 千円 | K58: =SUM(K59:L63) -> 0 | M58: 千円 | N58: =SUM(N59:O63) -> 0 | P58: 千円 | Q58: =SUM(Q59:R63) -> 0 | S58: 千円 | T58: =SUM(T59:T63) -> 0 | V58: 千円
D59: ④うち自工場消費額 | J59: 千円 | M59: 千円 | P59: 千円 | S59: 千円 | V59: 千円
D60: ⑤うち輸出向出荷額 | J60: 千円 | M60: 千円 | P60: 千円 | S60: 千円 | V60: 千円
D61: ⑥うち国内(県外)向出荷額 | J61: 千円 | M61: 千円 | P61: 千円 | S61: 千円 | V61: 千円
D62: ⑦うち国内(県内)向出荷額 | J62: 千円 | M62: 千円 | P62: 千円 | S62: 千円 | V62: 千円
D63: ⑧うち在庫分（未出荷分） | J63: 千円 | M63: 千円 | P63: 千円 | S63: 千円 | V63: 千円
F65: ①品目コード ＊品目分類表参照 | H65: 品目10 | K65: 品目11 | N65: 品目12 | Q65: 品目13 | T65: 品目14
F67: 品目名 | H67: =IF(H66=""," ",VLOOKUP(H66,'品目コード一覧表_一列（非表示）'!$A$1:$B$344,2,FALSE)) | K67: =IF(K66=""," ",VLOOKUP(K66,'品目コード一覧表_一列（非表示）'!$A$1:$B$344,2,FALSE)) | N67: =IF(N66=""," ",VLOOKUP(N66,'品目コード一覧表_一列（非表示）'!$A$1:$B$344,2,FALSE)) | Q67: =IF(Q66=""," ",VLOOKUP(Q66,'品目コード一覧表_一列（非表示）'!$A$1:$B$344,2,FALSE)) | T67: =IF(T66=""," ",VLOOKUP(T66,'品目コード一覧表_一列（非表示）'!$A$1:$B$344,2,FALSE))
C68: ②消費税の扱い（セルを選択すると変更可） | H68: 抜き | K68: 抜き | N68: 抜き | Q68: 抜き | T68: 抜き
...

Sheet 品目例示
B2: ■ 食料品
B3: 品目コード | C3: 品目名称 | D3: 品目例示
B4: 001 | C4: 牛肉 | D4: 牛肉
B5: 002 | C5: 豚肉 | D5: 豚肉
B6: 003 | C6: 鶏肉 | D6: 鶏肉、ブロイラー、地鶏、廃鶏
B7: 004 | C7: その他の食肉 | D7: 馬肉、羊肉、山羊肉等
B8: 005 | C8: と畜副産物（肉鶏処理副産物を含む。） | D8: 牛皮、豚皮、馬皮、羊皮、山羊皮、内臓、肉鶏処理副産物等
B9: 006 | C9: 飲用牛乳 | D9: 牛乳、加工乳
B10: 007 | C10: 乳製品 | D10: 乳飲料、乳酸菌飲料、発酵乳、粉乳、れん乳、バター、チーズ、クリーム、アイスクリーム類
B11: 008 | C11: その他の畜産食料品 | D11: ハム、ベーコン、ソーセージ、混合製品、ハンバーグ、焼豚、食肉びん・かん詰（コンビーフ、うずら卵水煮等）、その他の畜産食料品（精製はちみつ、乾燥卵等）
B12: 009 | C12: 冷凍魚介類 | D12: 冷凍魚介類、冷凍魚介調理品等
B13: 010 | C13: 塩・干・くん製品 | D13: 塩蔵、素干し、塩干、煮干し、くん製等
B14: 011 | C14: 水産びん・かん詰 | D14: 水産びん・かん詰
... B47: 044 | C47: たばこ | D47: たばこ
B49: ■ 繊維
B50: 品目コード | C50: 品目名称 | D50: 品目例示
B51: 045 | C51: 紡績糸 | D51: 純綿糸、混紡績糸、ビスコース・スフ糸（純、混）、キュプラスフ紡績糸、アセテート紡績糸、合成繊維紡績糸（ビニロン、ナイロン、アクリル、ポリエステル、ポリプロピレン等（純、混））、生糸、そ毛糸（純、混）、紡毛糸（純、混）、絹紡糸、さく紡糸、絹紡ちゅう糸、和紡糸、かさ高加工糸、麻紡績糸（亜麻糸、黄麻糸、ちょ麻糸）、ねん糸（綿縫糸、その他の綿ねん糸、毛ねん糸、絹(生糸)縫糸、その他の絹(生糸)ねん糸、ビスコース･スフねん糸、人絹ねん糸、合成繊維縫糸、その他の合成繊維ねん糸）
B52: 046 | C52: 綿・スフ織物（合繊短繊維織物を含む。）（賃加工を除く） | D52: 綿織物（かなきん、ポプリン、ブロードクロス、粗布、てんじく、細布、ネル、別珍、コール天、クレープ、タオル地、白もめん等）、ビスコース・スフ織物（広幅生地織物、小幅織物、広幅先染織物）、化学繊維紡績糸織物（ナイロン、ビニロン、アクリル、ポリエステル、ポプリン、ブロードクロス、ポリプロピレン等）、和紡織物、綿・スフ・合成繊維毛布地、その他の綿・スフ織物
B53: 047 | C53: 綿・スフ織物（合繊短繊維織物を含む。）（賃加工） | D53: 「046：綿・スフ織物（合繊短繊維織物を含む。）（賃加工を除く）」の賃加工
B54: 048 | C54: 絹・人絹織物（合繊長繊維織物を含む。）（賃加工を除く） | D54: 絹織物（羽二重類、クレープ類、その他の絹広幅織物、ちりめん類、その他の絹先染小幅織物、その他の絹後染小幅織物）、絹紡織物、人絹織物（ビスコース人絹織物、キュプラ長繊維織物、アセテート長繊維織物）、合成繊維長繊維織物（ナイロン、ポリエステル等）、化学繊維タイヤコード
B55: 049 | C55: 絹・人絹織物（合繊長繊維織物を含む。）（賃加工） | D55: 「048：絹・人絹織物（合繊長繊維織物を含む。）（賃加工を除く）」の賃加工
B56: 050 | C56: その他の織物（賃加工を除く） | D56: そ毛織物（洋服地、和服地等）、その他の紡毛織物（しん地、ネクタイ地、毛布地、肩掛地等）、紡毛服地、細幅織物（リボン、織マーク、綿テープ、エンドレスベルト、畳縁、ゴム入り織物、弾性糸織物等）
B57: 051 | C57: その他の織物（賃加工） | D57: 「050：その他の織物（賃加工を除く）」の賃加工
B58: 052 | C58: ニット生地 | D58: ニット生地（丸編、たて編、横編）
B59: 053 | C59: 染色整理（賃加工を除く） | D59: 機械染色整理、手加工染色整理、糸染
B60: 054 | C60: 染色整理（賃加工） | D60: 「053：染色整理（賃加工を除く）」の賃加工
B61: 055 | C61: 綱・網 | D61: ロープ、コード、トワイン（合成繊維、麻等）、漁網（ナイロン、ポリエチレン等）、その他の網地
... B71: 065 | C71: 他に分類されない繊維既製品 | D71: 綿・合成繊維帆布製品（シート、テント、日よけ、ホロ等）、タオル、蚊帳、刺しゅう製品、繊維製袋（麻袋等）、その他の繊維帆布製品（麻帆布製品等）
B73: ■ 木材・木製品
B74: 品目コード | C74: 品目名称 | D74: 品目例示
B75: 066 | C75: 製材 | D75: 板材、ひき割、ひき角、工場残材、のこくず等
B76: 067 | C76: 合板・集成材 | D76: 単板、普通合板、特殊合板、集成材
B77: 068 | C77: 木材チップ | D77: 木材チップ（針葉樹、広葉樹）
B78: 069 | C78: 建設用木製品 | D78: 窓枠、戸枠、羽目板、天井板、階段の手摺、敷居、尺枠（ドアの枠）、木製サッシ（窓枠、戸枠）、プレハブ建築用パネル、組立ハウス建築材、パーティクルボード、木質系プレハブ住宅、硬質繊維板銘板、その他の繊維板、銘木、床柱、床板等
B79: 070 | C79: 他に分類されない木製品 | D79: 竹・とう・きりゅう等容器（竹製かご、こうり、ベニヤかご、つる茎製容器、ざる、ソーイングバスケット、バスケット等）、折箱、木箱、取枠、巻枠、たる、おけ類、薬品処理木材（薬品処理電柱、薬品処理まくら木、薬品処理合板、合成樹脂注入木材、注入電柱等）、靴型、靴芯、曲輪、曲物、柄、取手、つまみ、握り、台木、はし、木製台所用品（サラダボール、米びつ、まな板、しゃもじ、めん棒、すりこぎ、盆、重箱、くり物等）、機械器具木部（電気こたつ・スタンドの木脚部等）、その他の木・竹・とう・きりゅう製品等、コルク製品（コルクせん、生圧搾コルク板、コルク絶縁製品、コルク粒、炭化コルク、コルクタイル、コルクカーペット等）、経木同製品、木毛、たる・おけ材、その他の特殊製材品
B81: ■ 家具・装備品
B82: 品目コード | C82: 品目名称 | D82: 品目例示
B83: 071 | C83: 木製家具 | D83: 机、テーブル、いす、たんす、棚、戸棚、音響機器用キャビネット、ベッド、流し台、調理台、ガス台等
B84: 072 | C84: 金属製家具 | D84: 机、テーブル、いす、ベッド（電動ベッドを含む）、流し台、調理台、ガス台、棚、戸棚、その他の金属製家具
B85: 073 | C85: 木製建具 | D85: 雨戸、格子、障子、ふすま（骨、縁を含む）、網戸、ドア、欄間（銘板を除く）等
...

Sheet 集計用シート
A1: 県 | B1: 整理番号 | C1: 頁 | D1: 品目コード | E1: 品目名 | F1: 消費税 | G1: 自工場 生産額 | H1: うち自工場 消費額 | I1: うち輸出向 出荷額 | J1: うち国内(県外）向 出荷額 | K1: うち国内(県内）向 出荷額 | L1: うち在庫分（未出荷分） | M1: 備考
A2: 44 | B2: =調査票!$T$4&調査票!$U$4&調査票!$V$4 | C2: 1 | D2: =調査票!K20&"" | E2: =調査票!K21 | F2: =調査票!K22 -> 抜き | G2: =調査票!$K$23 -> 0 | H2: =調査票!$K$24 -> 0 | I2: =調査票!$K$25 -> 0 | J2: =調査票!$K$26 -> 0 | K2: =調査票!$K$27 -> 0 | L2: =調査票!$K$28 -> 0
A3: 44 | B3: =調査票!$T$4&調査票!$U$4&調査票!$V$4 | C3: 1 | D3: =調査票!N20&"" | E3: =調査票!N21&"" | F3: =調査票!N22 -> 抜き | G3: =調査票!$N$23 -> 0 | H3: =調査票!$N$24 -> 0 | I3: =調査票!$N$25 -> 0 | J3: =調査票!$N$26 -> 0 | K3: =調査票!$N$27 -> 0 | L3: =調査票!$N$28 -> 0
A4: 44 | B4: =調査票!$T$4&調査票!$U$4&調査票!$V$4 | C4: 1 | D4: =調査票!Q20&"" | E4: =調査票!Q21&"" | F4: =調査票!Q22 -> 抜き | G4: =調査票!$Q$23 -> 0 | H4: =調査票!$Q$24 -> 0 | I4: =調査票!$Q$25 -> 0 | J4: =調査票!$Q$26 -> 0 | K4: =調査票!$Q$27 -> 0 | L4: =調査票!$Q$28 -> 0
A5: 44 | B5: =調査票!$T$4&調査票!$U$4&調査票!$V$4 | C5: 1 | D5: =調査票!T20&"" | E5: =調査票!T21&"" | F5: =調査票!T22 -> 抜き | G5: =調査票!$T$23 -> 0 | H5: =調査票!$T$24 -> 0 | I5: =調査票!$T$25 -> 0 | J5: =調査票!$T$26 -> 0 | K5: =調査票!$T$27 -> 0 | L5: =調査票!$T$28 -> 0
A6: 44 | B6: =調査票!$T$4&調査票!$U$4&調査票!$V$4 | C6: 2 | D6: =調査票!H55&"" | E6: =調査票!H56&"" | F6: =調査票!H57 -> 抜き | G6: =調査票!H58 -> 0 | H6: =調査票!H59 -> 0 | I6: =調査票!H60 -> 0 | J6: =調査票!H61 -> 0 | K6: =調査票!H62 -> 0 | L6: =調査票!H63 -> 0
A7: 44 | B7: =調査票!$T$4&調査票!$U$4&調査票!$V$4 | C7: 2 | D7: =調査票!K55&"" | E7: =調査票!K56&"" | F7: =調査票!K57 -> 抜き | G7: =調査票!K58 -> 0 | H7: =調査票!K59 -> 0 | I7: =調査票!K60 -> 0 | J7: =調査票!K61 -> 0 | K7: =調査票!K62 -> 0 | L7: =調査票!K63 -> 0
A8: 44 | B8: =調査票!$T$4&調査票!$U$4&調査票!$V$4 | C8: 2 | D8: =調査票!N55&"" | E8: =調査票!N56&"" | F8: =調査票!N57 -> 抜き | G8: =調査票!N58 -> 0 | H8: =調査票!N59 -> 0 | I8: =調査票!N60 -> 0 | J8: =調査票!N61 -> 0 | K8: =調査票!N62 -> 0 | L8: =調査票!N63 -> 0
A9: 44 | B9: =調査票!$T$4&調査票!$U$4&調査票!$V$4 | C9: 2 | D9: =調査票!Q55&"" | E9: =調査票!Q56&"" | F9: =調査票!Q57 -> 抜き | G9: =調査票!Q58 -> 0 | H9: =調査票!Q59 -> 0 | I9: =調査票!Q60 -> 0 | J9: =調査票!Q61 -> 0 | K9: =調査票!Q62 -> 0 | L9: =調査票!Q63 -> 0
A10: 44 | B10: =調査票!$T$4&調査票!$U$4&調査票!$V$4 | C10: 2 | D10: =調査票!T55&"" | E10: =調査票!T56&"" | F10: =調査票!T57 -> 抜き | G10: =調査票!T58 -> 0 | H10: =調査票!T59 -> 0 | I10: =調査票!T60 -> 0 | J10: =調査票!T61 -> 0 | K10: =調査票!T62 -> 0 | L10: =調査票!T63 -> 0
A11: 44 | B11: =調査票!$T$4&調査票!$U$4&調査票!$V$4 | C11: 2 | D11: =調査票!H66&"" | E11: =調査票!H67 | F11: =調査票!H68 -> 抜き | G11: =調査票!H69 -> 0 | H11: =調査票!H70 -> 0 | I11: =調査票!H71 -> 0 | J11: =調査票!H72 -> 0 | K11: =調査票!H73 -> 0 | L11: =調査票!H74 -> 0
A12: 44 | B12: =調査票!$T$4&調査票!$U$4&調査票!$V$4 | C12: 2 | D12: =調査票!K66&"" | E12: =調査票!K67 | F12: =調査票!K68 -> 抜き | G12: =調査票!K69 -> 0 | H12: =調査票!K70 -> 0 | I12: =調査票!K71 -> 0 | J12: =調査票!K72 -> 0 | K12: =調査票!K73 -> 0 | L12: =調査票!K74 -> 0
A13: 44 | B13: =調査票!$T$4&調査票!$U$4&調査票!$V$4 | C13: 2 | D13: =調査票!N66&"" | E13: =調査票!N67 | F13: =調査票!N68 -> 抜き | G13: =調査票!N69 -> 0 | H13: =調査票!N70 -> 0 | I13: =調査票!N71 -> 0 | J13: =調査票!N72 -> 0 | K13: =調査票!N73 -> 0 | L13: =調査票!N74 -> 0
A14: 44 | B14: =調査票!$T$4&調査票!$U$4&調査票!$V$4 | C14: 2 | D14: =調査票!Q66&"" | E14: =調査票!Q67 | F14: =調査票!Q68 -> 抜き | G14: =調査票!Q69 -> 0 | H14: =調査票!Q70 -> 0 | I14: =調査票!Q71 -> 0 | J14: =調査票!Q72 -> 0 | K14: =調査票!Q73 -> 0 | L14: =調査票!Q74 -> 0
A15: 44 | B15: =調査票!$T$4&調査票!$U$4&調査票!$V$4 | C15: 2 | D15: =調査票!T66&"" | E15: =調査票!T67 | F15: =調査票!T68 -> 抜き | G15: =調査票!T69 -> 0 | H15: =調査票!T70 -> 0 | I15: =調査票!T71 -> 0 | J15: =調査票!T72 -> 0 | K15: =調査票!T73 -> 0 | L15: =調査票!T74 -> 0

Sheet 品目コード一覧表_一列（非表示）
A1: 001 | B1: 牛肉
A2: 002 | B2: 豚肉
A3: 003 | B3: 鶏肉
A4: 004 | B4: その他の食肉
A5: 005 | B5: と畜副産物（肉鶏処理副産物を含む。）
A6: 006 | B6: 飲用牛乳
A7: 007 | B7: 乳製品
A8: 008 | B8: その他の畜産食料品
A9: 009 | B9: 冷凍魚介類
A10: 010 | B10: 塩・干・くん製品
A11: 011 | B11: 水産びん・かん詰
A12: 012 | B12: ねり製品
... A44: 044 | B44: たばこ
A45: ［繊維］
A46: 045 | B46: 紡績糸
A47: 046 | B47: 綿・スフ織物（合繊短繊維織物を含む。）（賃加工を除く）
A48: 047 | B48: 綿・スフ織物（合繊短繊維織物を含む。）（賃加工）
A49: 048 | B49: 絹・人絹織物（合繊長繊維織物を含む。）（賃加工を除く）
A50: 049 | B50: 絹・人絹織物（合繊長繊維織物を含む。）（賃加工）
A51: 050 | B51: その他の織物（賃加工を除く）
A52: 051 | B52: その他の織物（賃加工）
A53: 052 | B53: ニット生地
A54: 053 | B54: 染色整理（賃加工を除く）
A55: 054 | B55: 染色整理（賃加工）
A56: 055 | B56: 綱・網
A57: 056 | B57: 他に分類されない繊維工業製品
... A66: 065 | B66: 他に分類されない繊維既製品
A67: ［木材・木製品］
A68: 066 | B68: 製材
A69: 067 | B69: 合板・集成材
A70: 068 | B70: 木材チップ
A71: 069 | B71: 建設用木製品
A72: 070 | B72: 他に分類されない木製品
A73: ［家具・装備品］
A74: 071 | B74: 木製家具
A75: 072 | B75: 金属製家具
A76: 073 | B76: 木製建具
A77: 074 | B77: その他の家具・装備品
A78: ［パルプ・紙・紙加工品］
A79: 075 | B79: パルプ
...
