Workbook
Name from: #REF!
Name to: #REF!
Name 加工済み名簿3: #REF!
Name 調査票印刷データ: #REF!
Name 調査票項目一覧: [1]データ!$A:$AF
Name 調査票番号: #REF!

Sheet 調査票
L2: 令和7年大分県商品流通調査 | T2: 整理番号
F3: 提出期限 | G3: 令和8年11月27日
J4: 商品流通調査票
F5: 提出先 | G5: 大分県知事 | T5: ※整理番号は調査依頼文裏面に 記載しております。
L7: （対象期間：令和７年1～12月）
F8: この調査により報告された記入内容は、統計法により秘密が保護されます。この調査票は、統計以外の目的に使用することは絶対にありません。
D9: 令和7年商品流通調査は、大分県が作成する「令和7年大分県産業連関表」の基礎資料として、地域間の商品流通状況を把握することを目的としています。
B10: ※薄橙色に着色されたセルのみ入力をお願いします。金額の単位はすべて「千円単位」で、単位未満は四捨五入してください。（例：150万円の場合「1500」とご記入ください。）
C11: 事業所 所在地 | G11: 〒 | N11: 記入担当者連絡先 | O11: 所属 部署名
O13: TEL
C14: 事業所名 | O14: フリガナ
O15: 氏名
H18: 記入例
F19: ①品目コード ＊品目例示表参照 | H19: 品目１ | K19: 品目１ | N19: 品目２ | Q19: 品目３ | T19: 品目４
H20: 030
F21: 品目名 | H21: =IF(H20=""," ",VLOOKUP(H20,'品目コード一覧表_一列（非表示）'!$A$1:$B$344,2,FALSE)) -> 調味料 | K21: =IF(K20=""," ",VLOOKUP(K20,'品目コード一覧表_一列（非表示）'!$A$1:$B$344,2,FALSE)) | N21: =IF(N20=""," ",VLOOKUP(N20,'品目コード一覧表_一列（非表示）'!$A$1:$B$344,2,FALSE)) | Q21: =IF(Q20=""," ",VLOOKUP(Q20,'品目コード一覧表_一列（非表示）'!$A$1:$B$344,2,FALSE)) | T21: =IF(T20=""," ",VLOOKUP(T20,'品目コード一覧表_一列（非表示）'!$A$1:$B$344,2,FALSE))
C22: ②消費税の扱い（セルを選択すると変更可） | H22: 抜き | K22: 抜き | N22: 抜き | Q22: 抜き | T22: 抜き
C23: ③自工場生産額 | H23: =SUM(H24:I28) -> 1395 | J23: 千円 | K23: =SUM(K24:L28) -> 0 | M23: 千円 | N23: =SUM(N24:O28) -> 0 | P23: 千円 | Q23: =SUM(Q24:R28) -> 0 | S23: 千円 | T23: =SUM(T24:T28) -> 0 | V23: 千円
D24: ④うち自工場消費額 | H24: 384 | J24: 千円 | M24: 千円 | P24: 千円 | S24: 千円 | V24: 千円
D25: ⑤うち輸出向出荷額 | H25: 136 | J25: 千円 | M25: 千円 | P25: 千円 | S25: 千円 | V25: 千円
D26: ⑥うち国内(県外)向出荷額 | H26: 275 | J26: 千円 | M26: 千円 | P26: 千円 | S26: 千円 | V26: 千円
D27: ⑦うち国内(県内)向出荷額 | H27: 500 | J27: 千円 | M27: 千円 | P27: 千円 | S27: 千円 | V27: 千円
D28: ⑧うち在庫分（未出荷分） | H28: 100 | J28: 千円 | M28: 千円 | P28: 千円 | S28: 千円 | V28: 千円
C30: 【備考記入欄】注意すべき事柄がありましたら、その旨入力してください。 また、工場出荷価格（消費税を除く）で記入できない場合は、記入に際して実際に採用した方法を本欄に記入してください。 （例）・休業中のため出荷をしていない。 ・操業開始後未出荷のため出荷をしていない。 ・酒税、たばこ税、揮発油税等の納付税額抜き 等
C43: ※ファイル名「令和７年大分県商品流通調査票_整理番号」赤字部分を貴事業所整理番号(3桁)に書き換えのうえご提出ください。(事業所整理番号は、調査依頼文裏面に記載しております。） ※電子申請システムからのご提出を推奨しております。 【URL】https://ttzk.graffer.jp/pref-oita/smart-apply/surveys/5206913721335039641
D50: ☆ご協力ありがとうございました☆
N51: 記入欄が不足する場合は恐れ入りますが２枚目（紙の調査票は裏面）へご記入ください
B53: 【２枚目】
F54: ①品目コード ＊品目例示表参照 | H54: 品目5 | K54: 品目6 | N54: 品目7 | Q54: 品目8 | T54: 品目9
F56: 品目名 | H56: =IF(H55=""," ",VLOOKUP(H55,'品目コード一覧表_一列（非表示）'!$A$1:$B$344,2,FALSE)) | K56: =IF(K55=""," ",VLOOKUP(K55,'品目コード一覧表_一列（非表示）'!$A$1:$B$344,2,FALSE)) | N56: =IF(N55=""," ",VLOOKUP(N55,'品目コード一覧表_一列（非表示）'!$A$1:$B$344,2,FALSE)) | Q56: =IF(Q55=""," ",VLOOKUP(Q55,'品目コード一覧表_一列（非表示）'!$A$1:$B$344,2,FALSE)) | T56: =IF(T55=""," ",VLOOKUP(T55,'品目コード一覧表_一列（非表示）'!$A$1:$B$344,2,FALSE))
C57: ②消費税の扱い（セルを選択すると変更可） | H57: 抜き | K57: 抜き | N57: 抜き | Q57: 抜き | T57: 抜き
C58: ③自工場生産額 | H58: =SUM(H59:I63) -> 0 | J58: 千円 | K58: =SUM(K59:L63) -> 0 | M58: 千円 | N58: =SUM(N59:O63) -> 0 | P58: 千円 | Q58: =SUM(Q59:R63) -> 0 | S58: 千円 | T58: =SUM(T59:T63) -> 0 | V58: 千円
D59: ④うち自工場消費額 | J59: 千円 | M59: 千円 | P59: 千円 | S59: 千円 | V59: 千円
D60: ⑤うち輸出向出荷額 | J60: 千円 | M60: 千円 | P60: 千円 | S60: 千円 | V60: 千円
D61: ⑥うち国内(県外)向出荷額 | J61: 千円 | M61: 千円 | P61: 千円 | S61: 千円 | V61: 千円
D62: ⑦うち国内(県内)向出荷額 | J62: 千円 | M62: 千円 | P62: 千円 | S62: 千円 | V62: 千円
D63: ⑧うち在庫分（未出荷分） | J63: 千円 | M63: 千円 | P63: 千円 | S63: 千円 | V63: 千円
F65: ①品目コード ＊品目分類表参照 | H65: 品目10 | K65: 品目11 | N65: 品目12 | Q65: 品目13 | T65: 品目14
F67: 品目名 | H67: =IF(H66=""," ",VLOOKUP(H66,'品目コード一覧表_一列（非表示）'!$A$1:$B$344,2,FALSE)) | K67: =IF(K66=""," ",VLOOKUP(K66,'品目コード一覧表_一列（非表示）'!$A$1:$B$344,2,FALSE)) | N67: =IF(N66=""," ",VLOOKUP(N66,'品目コード一覧表_一列（非表示）'!$A$1:$B$344,2,FALSE)) | Q67: =IF(Q66=""," ",VLOOKUP(Q66,'品目コード一覧表_一列（非表示）'!$A$1:$B$344,2,FALSE)) | T67: =IF(T66=""," ",VLOOKUP(T66,'品目コード一覧表_一列（非表示）'!$A$1:$B$344,2,FALSE))
C68: ②消費税の扱い（セルを選択すると変更可） | H68: 抜き | K68: 抜き | N68: 抜き | Q68: 抜き | T68: 抜き
C69: ③自工場生産額 | H69: =SUM(H70:I74) -> 0 | J69: 千円 | K69: =SUM(K70:L74) -> 0 | M69: 千円 | N69: =SUM(N70:O74) -> 0 | P69: 千円 | Q69: =SUM(Q70:R74) -> 0 | S69: 千円 | T69: =SUM(T70:T74) -> 0 | V69: 千円
D70: ④うち自工場消費額 | J70: 千円 | M70: 千円 | P70: 千円 | S70: 千円 | V70: 千円
D71: ⑤うち輸出向出荷額 | J71: 千円 | M71: 千円 | P71: 千円 | S71: 千円 | V71: 千円
D72: ⑥うち国内(県外)向出荷額 | J72: 千円 | M72: 千円 | P72: 千円 | S72: 千円 | V72: 千円
D73: ⑦うち国内(県内)向出荷額 | J73: 千円 | M73: 千円 | P73: 千円 | S73: 千円 | V73: 千円
D74: ⑧うち在庫分（未出荷分） | J74: 千円 | M74: 千円 | P74: 千円 | S74: 千円 | V74: 千円

Sheet 品目例示
B2: ■ 食料品
B3: 品目コード | C3: 品目名称 | D3: 品目例示
B4: 001 | C4: 牛肉 | D4: 牛肉
B5: 002 | C5: 豚肉 | D5: 豚肉
B6: 003 | C6: 鶏肉 | D6: 鶏肉、ブロイラー、地鶏、廃鶏
B7: 004 | C7: その他の食肉 | D7: 馬肉、羊肉、山羊肉等
B8: 005 | C8: と畜副産物（肉鶏処理副産物を含む。） | D8: 牛皮、豚皮、馬皮、羊皮、山羊皮、内臓、肉鶏処理副産物等
B9: 006 | C9: 飲用牛乳 | D9: 牛乳、加工乳
B10: 007 | C10: 乳製品 | D10: 乳飲料、乳酸菌飲料、発酵乳、粉乳、れん乳、バター、チーズ、クリーム、アイスクリーム類
B11: 008 | C11: その他の畜産食料品 | D11: ハム、ベーコン、ソーセージ、混合製品、ハンバーグ、焼豚、食肉びん・かん詰（コンビーフ、うずら卵水煮等）、その他の畜産食料品（精製はちみつ、乾燥卵等）
B12: 009 | C12: 冷凍魚介類 | D12: 冷凍魚介類、冷凍魚介調理品等
B13: 010 | C13: 塩・干・くん製品 | D13: 塩蔵、素干し、塩干、煮干し、くん製等
B14: 011 | C14: 水産びん・かん詰 | D14: 水産びん・かん詰
... B47: 044 | C47: たばこ | D47: たばこ
B49: ■ 繊維
B50: 品目コード | C50: 品目名称 | D50: 品目例示
B51: 045 | C51: 紡績糸 | D51: 純綿糸、混紡績糸、ビスコース・スフ糸（純、混）、キュプラスフ紡績糸、アセテート紡績糸、合成繊維紡績糸（ビニロン、ナイロン、アクリル、ポリエステル、ポリプロピレン等（純、混））、生糸、そ毛糸（純、混）、紡毛糸（純、混）、絹紡糸、さく紡糸、絹紡ちゅう糸、和紡糸、かさ高加工糸、麻紡績糸（亜麻糸、黄麻糸、ちょ麻糸）、ねん糸（綿縫糸、その他の綿ねん糸、毛ねん糸、絹(生糸)縫糸、その他の絹(生糸)ねん糸、ビスコース･スフねん糸、人絹ねん糸、合成繊維縫糸、その他の合成繊維ねん糸）
B52: 046 | C52: 綿・スフ織物（合繊短繊維織物を含む。）（賃加工を除く） | D52: 綿織物（かなきん、ポプリン、ブロードクロス、粗布、てんじく、細布、ネル、別珍、コール天、クレープ、タオル地、白もめん等）、ビスコース・スフ織物（広幅生地織物、小幅織物、広幅先染織物）、化学繊維紡績糸織物（ナイロン、ビニロン、アクリル、ポリエステル、ポプリン、ブロードクロス、ポリプロピレン等）、和紡織物、綿・スフ・合成繊維毛布地、その他の綿・スフ織物
B53: 047 | C53: 綿・スフ織物（合繊短繊維織物を含む。）（賃加工） | D53: 「046：綿・スフ織物（合繊短繊維織物を含む。）（賃加工を除く）」の賃加工
B54: 048 | C54: 絹・人絹織物（合繊長繊維織物を含む。）（賃加工を除く） | D54: 絹織物（羽二重類、クレープ類、その他の絹広幅織物、ちりめん類、その他の絹先染小幅織物、その他の絹後染小幅織物）、絹紡織物、人絹織物（ビスコース人絹織物、キュプラ長繊維織物、アセテート長繊維織物）、合成繊維長繊維織物（ナイロン、ポリエステル等）、化学繊維タイヤコード
B55: 049 | C55: 絹・人絹織物（合繊長繊維織物を含む。）（賃加工） | D55: 「048：絹・人絹織物（合繊長繊維織物を含む。）（賃加工を除く）」の賃加工
B56: 050 | C56: その他の織物（賃加工を除く） | D56: そ毛織物（洋服地、和服地等）、その他の紡毛織物（しん地、ネクタイ地、毛布地、肩掛地等）、紡毛服地、細幅織物（リボン、織マーク、綿テープ、エンドレスベルト、畳縁、ゴム入り織物、弾性糸織物等）
B57: 051 | C57: その他の織物（賃加工） | D57: 「050：その他の織物（賃加工を除く）」の賃加工
B58: 052 | C58: ニット生地 | D58: ニット生地（丸編、たて編、横編）
B59: 053 | C59: 染色整理（賃加工を除く） | D59: 機械染色整理、手加工染色整理、糸染
B60: 054 | C60: 染色整理（賃加工） | D60: 「053：染色整理（賃加工を除く）」の賃加工
B61: 055 | C61: 綱・網 | D61: ロープ、コード、トワイン（合成繊維、麻等）、漁網（ナイロン、ポリエチレン等）、その他の網地
... B71: 065 | C71: 他に分類されない繊維既製品 | D71: 綿・合成繊維帆布製品（シート、テント、日よけ、ホロ等）、タオル、蚊帳、刺しゅう製品、繊維製袋（麻袋等）、その他の繊維帆布製品（麻帆布製品等）
B73: ■ 木材・木製品
B74: 品目コード | C74: 品目名称 | D74: 品目例示
B75: 066 | C75: 製材 | D75: 板材、ひき割、ひき角、工場残材、のこくず等
B76: 067 | C76: 合板・集成材 | D76: 単板、普通合板、特殊合板、集成材
B77: 068 | C77: 木材チップ | D77: 木材チップ（針葉樹、広葉樹）
B78: 069 | C78: 建設用木製品 | D78: 窓枠、戸枠、羽目板、天井板、階段の手摺、敷居、尺枠（ドアの枠）、木製サッシ（窓枠、戸枠）、プレハブ建築用パネル、組立ハウス建築材、パーティクルボード、木質系プレハブ住宅、硬質繊維板銘板、その他の繊維板、銘木、床柱、床板等
B79: 070 | C79: 他に分類されない木製品 | D79: 竹・とう・きりゅう等容器（竹製かご、こうり、ベニヤかご、つる茎製容器、ざる、ソーイングバスケット、バスケット等）、折箱、木箱、取枠、巻枠、たる、おけ類、薬品処理木材（薬品処理電柱、薬品処理まくら木、薬品処理合板、合成樹脂注入木材、注入電柱等）、靴型、靴芯、曲輪、曲物、柄、取手、つまみ、握り、台木、はし、木製台所用品（サラダボール、米びつ、まな板、しゃもじ、めん棒、すりこぎ、盆、重箱、くり物等）、機械器具木部（電気こたつ・スタンドの木脚部等）、その他の木・竹・とう・きりゅう製品等、コルク製品（コルクせん、生圧搾コルク板、コルク絶縁製品、コルク粒、炭化コルク、コルクタイル、コルクカーペット等）、経木同製品、木毛、たる・おけ材、その他の特殊製材品
B81: ■ 家具・装備品
B82: 品目コード | C82: 品目名称 | D82: 品目例示
B83: 071 | C83: 木製家具 | D83: 机、テーブル、いす、たんす、棚、戸棚、音響機器用キャビネット、ベッド、流し台、調理台、ガス台等
B84: 072 | C84: 金属製家具 | D84: 机、テーブル、いす、ベッド（電動ベッドを含む）、流し台、調理台、ガス台、棚、戸棚、その他の金属製家具
B85: 073 | C85: 木製建具 | D85: 雨戸、格子、障子、ふすま（骨、縁を含む）、網戸、ドア、欄間（銘板を除く）等
B86: 074 | C86: その他の家具・装備品 | D86: ベッド用マットレス、組スプリング、宗教用具、びょうぶ、衣こう、すだれ、ついたて、鏡縁・額縁、事務所用・店舗用装備品、窓用・扉用日よけ、その他の家具・装備品等
B88: ■ パルプ・紙・紙加工品
B89: 品目コード | C89: 品目名称 | D89: 品目例示
B90: 075 | C90: パルプ | D90: 溶解パルプ、サルファイトパルプ、クラフトパルプ、セミケミカルパルプ、ケミグランドパルプ、サーモメカニカルパルプ、リファイナーグランドパルプ、砕木パルプ等
B91: 076 | C91: 洋紙・和紙 | D91: 新聞巻取紙、非塗工印刷用紙（上級・中級・下級印刷用紙、薄葉印刷用紙）、微塗工印刷用紙、塗工印刷用紙（アート紙、コート紙、軽量コート紙等）、特殊印刷用紙、複写原紙、感光紙用紙、フォーム用紙、ＰＰＣ用紙、情報記録用紙、重袋用両更クラフト紙、純白ロール紙、さらしクラフト紙、ティッシュペーパー用紙、ちり紙、トイレットペーパー、タオル用紙等、その他衛生用紙、加工原紙、電気絶縁紙、ライスペーパー、グラシンペーパー、書道用紙、手すき和紙等
B92: 077 | C92: 板紙 | D92: 外装用ライナ、内装用ライナ、中しん原紙、段ボール原紙、マニラボール、白ボール、黄板紙、チップボール、色板紙、建材原紙等
B93: 078 | C93: 段ボール | D93: 段ボールシート（両面、復両面、片面）
B94: 079 | C94: 塗工紙・建設用加工紙 | D94: 絶縁紙、絶縁テープ、アスファルト塗工紙、浸透加工紙、積層加工紙、紙製・織物製ブックバインディングクロス、その他の塗工紙・加工紙、壁紙、ふすま紙
B95: 080 | C95: 段ボール箱 | D95: 段ボール箱
B96: 081 | C96: その他の紙製容器 | D96: 重包装紙袋（セメント袋、米麦袋、でんぷん袋、肥料袋、砂糖袋、小麦粉袋、飼料袋、石灰袋等）、角底紙袋（ショッピング手堤袋等）、印刷箱、簡易箱、貼箱等
B97: 082 | C97: 紙製衛生材料・用品 | D97: 紙製衛生材料（衛生用紙綿、衛生用綿状パルプ等）、紙製衛生用品（紙おむつ、紙タオル、生理用品、ティッシュペーパー、紙ナプキン）
B98: 083 | C98: その他のパルプ・紙・紙加工品 | D98: 事務用紙製品（帳簿類、事務用書式類、事務用紙袋等）、学用紙製品（ノート類、その他の学用紙製品）、日用紙製品（祝儀用品、写真用紙製品等）、ソリッドファイバー・バルカナイズドファイバー製品、セロファン、紙管、紙ひも、紙テープ、紙ストロー、小型紙袋、セロファンテープ、抄繊糸、ファイバーパッキン、紙製レース、型紙、シールパック、巻取紙、ガムテープ等
B100: ■ 印刷・同関連業
B101: 品目コード | C101: 品目名称 | D101: 品目例示
B102: 084 | C102: 印刷・製版・製本（賃加工を除く） | D102: とっ版印刷物（活版）、平版印刷物（オフセット）、おう版印刷物（グラビア）、特殊印刷物（紙以外）、官報印刷等、紙幣印刷、写真製版、フォトマスク、活字、鉛版、銅おう版・木版彫刻製版
B103: 085 | C103: 印刷・製版・製本（賃加工） | D103: 「084：印刷・製版・製本（賃加工を除く）」の賃加工
B105: ■ 化学製品
B106: 品目コード | C106: 品目名称 | D106: 品目例示
B107: 086 | C107: 化学肥料 | D107: アンモニア、アンモニア水、尿素、硝酸アンモニウム、石灰窒素、その他のアンモニウム系肥料、りん酸質肥料、過りん酸石灰、熔成りん肥、重過りん酸石灰、重焼りん、その他の化学肥料、りん酸アンモニウム（肥料用）、高度化成、普通化成、ＮＫ化成
B108: 087 | C108: ソーダ灰 | D108: ソーダ灰
B109: 088 | C109: か性ソーダ | D109: か性ソーダ
B110: 089 | C110: 液体塩素 | D110: 液体塩素
B111: 090 | C111: その他のソーダ工業製品 | D111: 塩素ガス、塩酸ガス、塩酸、高度さらし粉、塩素酸ナトリウム、亜塩素酸ナトリウム、次亜塩素酸ナトリウム溶液等
B112: 091 | C112: 酸化チタン | D112: 酸化チタン（アナタース型、ルチル型）
B113: 092 | C113: カーボンブラック | D113: カーボンブラック
B114: 093 | C114: その他の無機顔料 | D114: 亜鉛華、鉛丹、リサージ、酸化第２鉄（べんがら）、黄鉛、アゾ顔料、フタロシアニン系顔料、カドミウム顔料等
B115: 094 | C115: 圧縮ガス・液化ガス | D115: 酸素（ガス・液化）（容器詰を含む）、窒素、水素ガス、溶解アセチレン、炭酸ガス、アルゴン、その他の圧縮ガス・液化ガス
B116: 095 | C116: 塩 | D116: 塩
B117: 096 | C117: その他の無機化学工業製品 | D117: ふっ化水素酸、けいふっ化ナトリウム、りん酸、（トリポリ）りん酸ナトリウム、水酸化カリウム、炭酸カリウム、塩化バリウム、炭酸バリウム、硫酸バリウム、活性炭（粒状、粉状）、硫酸、亜硫酸ナトリウム、ハイドロサルファイト、硫化ナトリウム、水硫化ナトリウム、二硫化炭素、硝酸、硝酸ナトリウム、亜硝酸ナトリウム、重クロム酸カリウム、硫酸亜鉛、塩化亜鉛、クロム化合物、塩化第二水銀、酸化第二水銀、塩化第二鉄、硫酸ナトリウム（結晶、副生を含む）、無水硫酸ナトリウム、硫酸ニッケル、硫酸第一ニッケル、硫酸アルミニウム、ポリ塩化アルミニウム、よう素、けい酸カルシウム、けい酸ナトリウム、アルミノけい酸ナトリウム、シアン化ナトリウム、過酸化水素、水加ヒドラジン、カルシウムカーバイド等
... B163: 142 | C163: 他に分類されない化学最終製品 | D163: 産業用爆薬（ダイナマイト、含水爆薬、硝安爆薬、硝安油剤爆薬等）、その他の火工品（電気雷管、導火線、導爆線、工業電管、信号電管、銃用電管等）、武器用火薬類（武器用ＴＮＴ、武器用爆薬、武器用無煙火薬等）、クレンザー、ワックス、靴クリーム、その他の洗浄剤・磨用剤（磨粉、金属磨用剤等）、天然香料、合成香料、調合香料、ろうそく、天然樹脂製品、木材化学製品、試薬、デキストリン、他の化学最終製品（防臭剤、脱硫剤、潤滑油添加剤等）
B165: ■ 石油製品・石炭製品
B166: 品目コード | C166: 品目名称 | D166: 品目例示
B167: 143 | C167: ガソリン | D167: 航空ガソリン、自動車ガソリン、工業用ガソリン
B168: 144 | C168: ジェット燃料油 | D168: ジェット燃料油
B169: 145 | C169: 灯油 | D169: 灯油
B170: 146 | C170: 軽油 | D170: 軽油
B171: 147 | C171: Ａ重油 | D171: Ａ重油
B172: 148 | C172: Ｂ重油・Ｃ重油 | D172: Ｂ重油、Ｃ重油
B173: 149 | C173: ナフサ | D173: ナフサ（石油化学用、化学肥料用、都市ガス用等）
B174: 150 | C174: 液化石油ガス | D174: 液化石油ガス（ＰＰ、ＰＢ、ＢＢ）
B175: 151 | C175: その他の石油製品 | D175: カルシウムグリース、リチウムグリース、潤滑油（切削油、工作油剤）、アスファルト（ストレート、ブローン）、パラフィン、精製・混合用原料油、石油ガス、オイルコークス等
B176: 152 | C176: コークス | D176: コークス（溶鉱炉用、鋳物用、一般用）、ピッチコークス
B177: 153 | C177: その他の石炭製品 | D177: 練炭、豆炭、粗製ベンゾール、コールタール、コークス炉ガス（高乾）
B178: 154 | C178: 舗装材料 | D178: アスファルト舗装混合材、タール舗装混合材（アスファルトブロック、タールブロックを含む）、れき青乳剤、舗装用ブロック（アスファルト製）等
B180: ■ プラスチック製品
B181: 品目コード | C181: 品目名称 | D181: 品目例示
B182: 155 | C182: プラスチックフィルム・シート | D182: プラスチックフィルム（軟質、硬質）、プラスチックシート、プラスチック床材（プラスチックタイル、その他のプラスチック床材）、合成皮革（ナイロン系、ポリアミド系、ウレタン系、塩化ビニル系等）
B183: 156 | C183: プラスチック板・管・棒 | D183: プラスチック板（平板、波板、積層品、化粧板等）、プラスチック棒、プラスチック管（プラスチック硬質管、プラスチックホース等）、プラスチック継手（バルブ、コックを含む）、プラスチック異形押出製品（プラスチック雨どい、同附属品、その他のプラスチック異形押出製品）、プラスチック板・棒・管・継手・異形押出製品の加工品
B184: 157 | C184: プラスチック発泡製品 | D184: 軟質プラスチック発泡製品（半硬質性を含む）（軟質ポリウレタンフォーム、軟質ポリエチレンフォーム、軟質発泡ポリエチレン、軟質塩化ビニルフォーム等）、硬質プラスチック発泡製品（半硬質性を含む）（厚さ３㎜以上の厚板、厚さ３㎜未満の薄板、棒状・管状発泡製品、人工雪（粒）等）
B185: 158 | C185: 工業用プラスチック製品 | D185: 輸送機械用プラスチック製品（自動車用バンパー・ダッシュボード・ホイールキャップ等）、電気機械器具用プラスチック製品（電話機きょう体、テレビ・ラジオ用キャビネット、冷蔵庫内装用品、扇風機羽根、掃除機ボデー、プラスチック製光ファイバー等）、その他の工業用プラスチック製品（カメラボデー、パッキング（成形したもの）等）、工業用プラスチック製品の加工品（切断、接合、塗装、蒸着めっき、バフ加工等）
B186: 159 | C186: 強化プラスチック製品 | D186: 強化プラスチック製板・棒・管・継手、強化プラスチック製容器・浴槽・浄化槽、その他の強化プラスチック製品（保安帽（帽体）・がい子・橋脚等）、発泡・強化プラスチック製品の加工品
B187: 160 | C187: プラスチック製容器 | D187: 飲料用プラスチックボトル、プラスチック製中空成形容器（洗剤・シャンプー容器、水筒、灯油缶、工業用薬品缶等）、その他のプラスチック製容器（コンテナ、魚箱、ビール箱、アイスボックス、調味料容器等）
B188: 161 | C188: プラスチック製日用雑貨・食卓用品 | D188: プラスチック製日用雑貨・食卓用品（まな板、ボール、食器、盆、漆器素地、洗面器、腰掛け、水筒等）
B189: 162 | C189: その他のプラスチック製品（賃加工を除く） | D189: プラスチック成形材料、再生プラスチック成形材料、廃プラスチック製品、プラスチック製品の加工品（他に分類されないもの）（切断、接合、塗装、蒸着めっき、バフ加工等）、他のプラスチック製品（絶縁テープ、プラスチック製時計ガラス、塩化ビニル止水板、ビニル製外衣、人工芝、注射筒（目盛りなし）等）
B190: 163 | C190: その他のプラスチック製品（賃加工） | D190: 「162：その他のプラスチック製品（賃加工を除く）」の賃加工（塗装、研磨、めっき等）
B192: ■ ゴム製品
B193: 品目コード | C193: 品目名称 | D193: 品目例示
B194: 164 | C194: タイヤ・チューブ | D194: 自動車用タイヤ、自動車用チューブ、タイヤ・チューブ（航空機用、自転車用、運搬車用等）、ソリッドタイヤ、更生タイヤ（自動車用、航空機用、自転車用、運搬車用等）
B195: 165 | C195: ゴム製・プラスチック製履物 | D195: ゴム製履物（地下足袋、ゴム底布靴、総ゴム靴、ゴム草履、スリッパ、ゴム製履物用品）、プラスチック製履物（靴、サンダル、スリッパ、その他のプラスチック製履物・同附属品）
B196: 166 | C196: 他に分類されないゴム製品 | D196: ゴムベルト（コンベヤベルト、Ｖベルト、歯付ベルト、その他のゴムベルト）、ゴムホース、工業用ゴム製品（防振ゴム、ゴムロール、ゴム製パッキン類、ゴム管、ゴムライニング、工業用エボナイト製品、工業用ゴム板、防げん材、工業用スポンジ製品、フラップ・リムバンド、その他の工業用ゴム製品）、ゴム引布（衣料用・雑貨用等）、医療・衛生用ゴム製品、練生地（更正タイヤ用等）、再生ゴム、フォームラバー、ゴム手袋、その他のゴム製品
...

Sheet 集計用シート
A1: 県 | B1: 整理番号 | C1: 頁 | D1: 品目コード | E1: 品目名 | F1: 消費税 | G1: 自工場 生産額 | H1: うち自工場 消費額 | I1: うち輸出向 出荷額 | J1: うち国内(県外）向 出荷額 | K1: うち国内(県内）向 出荷額 | L1: うち在庫分（未出荷分） | M1: 備考
A2: 44 | B2: =調査票!$T$4&調査票!$U$4&調査票!$V$4 | C2: 1 | D2: =調査票!K20&"" | E2: =調査票!K21 | F2: =調査票!K22 -> 抜き | G2: =調査票!$K$23 -> 0 | H2: =調査票!$K$24 -> 0 | I2: =調査票!$K$25 -> 0 | J2: =調査票!$K$26 -> 0 | K2: =調査票!$K$27 -> 0 | L2: =調査票!$K$28 -> 0
A3: 44 | B3: =調査票!$T$4&調査票!$U$4&調査票!$V$4 | C3: 1 | D3: =調査票!N20&"" | E3: =調査票!N21&"" | F3: =調査票!N22 -> 抜き | G3: =調査票!$N$23 -> 0 | H3: =調査票!$N$24 -> 0 | I3: =調査票!$N$25 -> 0 | J3: =調査票!$N$26 -> 0 | K3: =調査票!$N$27 -> 0 | L3: =調査票!$N$28 -> 0
A4: 44 | B4: =調査票!$T$4&調査票!$U$4&調査票!$V$4 | C4: 1 | D4: =調査票!Q20&"" | E4: =調査票!Q21&"" | F4: =調査票!Q22 -> 抜き | G4: =調査票!$Q$23 -> 0 | H4: =調査票!$Q$24 -> 0 | I4: =調査票!$Q$25 -> 0 | J4: =調査票!$Q$26 -> 0 | K4: =調査票!$Q$27 -> 0 | L4: =調査票!$Q$28 -> 0
A5: 44 | B5: =調査票!$T$4&調査票!$U$4&調査票!$V$4 | C5: 1 | D5: =調査票!T20&"" | E5: =調査票!T21&"" | F5: =調査票!T22 -> 抜き | G5: =調査票!$T$23 -> 0 | H5: =調査票!$T$24 -> 0 | I5: =調査票!$T$25 -> 0 | J5: =調査票!$T$26 -> 0 | K5: =調査票!$T$27 -> 0 | L5: =調査票!$T$28 -> 0
A6: 44 | B6: =調査票!$T$4&調査票!$U$4&調査票!$V$4 | C6: 2 | D6: =調査票!H55&"" | E6: =調査票!H56&"" | F6: =調査票!H57 -> 抜き | G6: =調査票!H58 -> 0 | H6: =調査票!H59 -> 0 | I6: =調査票!H60 -> 0 | J6: =調査票!H61 -> 0 | K6: =調査票!H62 -> 0 | L6: =調査票!H63 -> 0
A7: 44 | B7: =調査票!$T$4&調査票!$U$4&調査票!$V$4 | C7: 2 | D7: =調査票!K55&"" | E7: =調査票!K56&"" | F7: =調査票!K57 -> 抜き | G7: =調査票!K58 -> 0 | H7: =調査票!K59 -> 0 | I7: =調査票!K60 -> 0 | J7: =調査票!K61 -> 0 | K7: =調査票!K62 -> 0 | L7: =調査票!K63 -> 0
A8: 44 | B8: =調査票!$T$4&調査票!$U$4&調査票!$V$4 | C8: 2 | D8: =調査票!N55&"" | E8: =調査票!N56&"" | F8: =調査票!N57 -> 抜き | G8: =調査票!N58 -> 0 | H8: =調査票!N59 -> 0 | I8: =調査票!N60 -> 0 | J8: =調査票!N61 -> 0 | K8: =調査票!N62 -> 0 | L8: =調査票!N63 -> 0
A9: 44 | B9: =調査票!$T$4&調査票!$U$4&調査票!$V$4 | C9: 2 | D9: =調査票!Q55&"" | E9: =調査票!Q56&"" | F9: =調査票!Q57 -> 抜き | G9: =調査票!Q58 -> 0 | H9: =調査票!Q59 -> 0 | I9: =調査票!Q60 -> 0 | J9: =調査票!Q61 -> 0 | K9: =調査票!Q62 -> 0 | L9: =調査票!Q63 -> 0
A10: 44 | B10: =調査票!$T$4&調査票!$U$4&調査票!$V$4 | C10: 2 | D10: =調査票!T55&"" | E10: =調査票!T56&"" | F10: =調査票!T57 -> 抜き | G10: =調査票!T58 -> 0 | H10: =調査票!T59 -> 0 | I10: =調査票!T60 -> 0 | J10: =調査票!T61 -> 0 | K10: =調査票!T62 -> 0 | L10: =調査票!T63 -> 0
A11: 44 | B11: =調査票!$T$4&調査票!$U$4&調査票!$V$4 | C11: 2 | D11: =調査票!H66&"" | E11: =調査票!H67 | F11: =調査票!H68 -> 抜き | G11: =調査票!H69 -> 0 | H11: =調査票!H70 -> 0 | I11: =調査票!H71 -> 0 | J11: =調査票!H72 -> 0 | K11: =調査票!H73 -> 0 | L11: =調査票!H74 -> 0
A12: 44 | B12: =調査票!$T$4&調査票!$U$4&調査票!$V$4 | C12: 2 | D12: =調査票!K66&"" | E12: =調査票!K67 | F12: =調査票!K68 -> 抜き | G12: =調査票!K69 -> 0 | H12: =調査票!K70 -> 0 | I12: =調査票!K71 -> 0 | J12: =調査票!K72 -> 0 | K12: =調査票!K73 -> 0 | L12: =調査票!K74 -> 0
A13: 44 | B13: =調査票!$T$4&調査票!$U$4&調査票!$V$4 | C13: 2 | D13: =調査票!N66&"" | E13: =調査票!N67 | F13: =調査票!N68 -> 抜き | G13: =調査票!N69 -> 0 | H13: =調査票!N70 -> 0 | I13: =調査票!N71 -> 0 | J13: =調査票!N72 -> 0 | K13: =調査票!N73 -> 0 | L13: =調査票!N74 -> 0
A14: 44 | B14: =調査票!$T$4&調査票!$U$4&調査票!$V$4 | C14: 2 | D14: =調査票!Q66&"" | E14: =調査票!Q67 | F14: =調査票!Q68 -> 抜き | G14: =調査票!Q69 -> 0 | H14: =調査票!Q70 -> 0 | I14: =調査票!Q71 -> 0 | J14: =調査票!Q72 -> 0 | K14: =調査票!Q73 -> 0 | L14: =調査票!Q74 -> 0
A15: 44 | B15: =調査票!$T$4&調査票!$U$4&調査票!$V$4 | C15: 2 | D15: =調査票!T66&"" | E15: =調査票!T67 | F15: =調査票!T68 -> 抜き | G15: =調査票!T69 -> 0 | H15: =調査票!T70 -> 0 | I15: =調査票!T71 -> 0 | J15: =調査票!T72 -> 0 | K15: =調査票!T73 -> 0 | L15: =調査票!T74 -> 0

Sheet 品目コード一覧表_一列（非表示）
A1: 001 | B1: 牛肉
A2: 002 | B2: 豚肉
A3: 003 | B3: 鶏肉
A4: 004 | B4: その他の食肉
A5: 005 | B5: と畜副産物（肉鶏処理副産物を含む。）
A6: 006 | B6: 飲用牛乳
A7: 007 | B7: 乳製品
A8: 008 | B8: その他の畜産食料品
A9: 009 | B9: 冷凍魚介類
A10: 010 | B10: 塩・干・くん製品
A11: 011 | B11: 水産びん・かん詰
A12: 012 | B12: ねり製品
... A44: 044 | B44: たばこ
A45: ［繊維］
A46: 045 | B46: 紡績糸
A47: 046 | B47: 綿・スフ織物（合繊短繊維織物を含む。）（賃加工を除く）
A48: 047 | B48: 綿・スフ織物（合繊短繊維織物を含む。）（賃加工）
A49: 048 | B49: 絹・人絹織物（合繊長繊維織物を含む。）（賃加工を除く）
A50: 049 | B50: 絹・人絹織物（合繊長繊維織物を含む。）（賃加工）
A51: 050 | B51: その他の織物（賃加工を除く）
A52: 051 | B52: その他の織物（賃加工）
A53: 052 | B53: ニット生地
A54: 053 | B54: 染色整理（賃加工を除く）
A55: 054 | B55: 染色整理（賃加工）
A56: 055 | B56: 綱・網
A57: 056 | B57: 他に分類されない繊維工業製品
... A66: 065 | B66: 他に分類されない繊維既製品
A67: ［木材・木製品］
A68: 066 | B68: 製材
A69: 067 | B69: 合板・集成材
A70: 068 | B70: 木材チップ
A71: 069 | B71: 建設用木製品
A72: 070 | B72: 他に分類されない木製品
A73: ［家具・装備品］
A74: 071 | B74: 木製家具
A75: 072 | B75: 金属製家具
A76: 073 | B76: 木製建具
A77: 074 | B77: その他の家具・装備品
A78: ［パルプ・紙・紙加工品］
A79: 075 | B79: パルプ
A80: 076 | B80: 洋紙・和紙
A81: 077 | B81: 板紙
A82: 078 | B82: 段ボール
A83: 079 | B83: 塗工紙・建設用加工紙
A84: 080 | B84: 段ボール箱
A85: 081 | B85: その他の紙製容器
A86: 082 | B86: 紙製衛生材料・用品
A87: 083 | B87: その他のパルプ・紙・紙加工品
A88: ［印刷・同関連業］
A89: 084 | B89: 印刷・製版・製本（賃加工を除く）
A90: 085 | B90: 印刷・製版・製本（賃加工）
A91: ［化学製品］
A92: 086 | B92: 化学肥料
A93: 087 | B93: ソーダ灰
A94: 088 | B94: か性ソーダ
A95: 089 | B95: 液体塩素
A96: 090 | B96: その他のソーダ工業製品
A97: 091 | B97: 酸化チタン
A98: 092 | B98: カーボンブラック
A99: 093 | B99: その他の無機顔料
A100: 094 | B100: 圧縮ガス・液化ガス
A101: 095 | B101: 塩
A102: 096 | B102: その他の無機化学工業製品
A103: 097 | B103: エチレン
... A148: 142 | B148: 他に分類されない化学最終製品
A149: ［石油製品・石炭製品］
A150: 143 | B150: ガソリン
A151: 144 | B151: ジェット燃料油
A152: 145 | B152: 灯油
A153: 146 | B153: 軽油
A154: 147 | B154: Ａ重油
A155: 148 | B155: Ｂ重油・Ｃ重油
A156: 149 | B156: ナフサ
A157: 150 | B157: 液化石油ガス
A158: 151 | B158: その他の石油製品
A159: 152 | B159: コークス
A160: 153 | B160: その他の石炭製品
A161: 154 | B161: 舗装材料
A162: ［プラスチック製品］
A163: 155 | B163: プラスチックフィルム・シート
A164: 156 | B164: プラスチック板・管・棒
A165: 157 | B165: プラスチック発泡製品
A166: 158 | B166: 工業用プラスチック製品
A167: 159 | B167: 強化プラスチック製品
A168: 160 | B168: プラスチック製容器
A169: 161 | B169: プラスチック製日用雑貨・食卓用品
A170: 162 | B170: その他のプラスチック製品（賃加工を除く）
A171: 163 | B171: その他のプラスチック製品（賃加工）
A172: ［ゴム製品］
A173: 164 | B173: タイヤ・チューブ
A174: 165 | B174: ゴム製・プラスチック製履物
A175: 166 | B175: 他に分類されないゴム製品
A176: ［なめし革・同製品・毛皮製品］
A177: 167 | B177: 革製履物
A178: 168 | B178: 製革・毛皮
A179: 169 | B179: かばん・袋物・その他の革製品
A180: ［窯業・土石製品］
A181: 170 | B181: 板ガラス
A182: 171 | B182: 安全ガラス・複層ガラス
A183: 172 | B183: ガラス繊維・同製品
...
